BEGIN:VCALENDAR
VERSION:2.0
PRODID:-//KIPP Detroit Public Schools - ECPv6.15.20//NONSGML v1.0//EN
CALSCALE:GREGORIAN
METHOD:PUBLISH
X-ORIGINAL-URL:https://kippdetroit.org
X-WR-CALDESC:Events for KIPP Detroit Public Schools
REFRESH-INTERVAL;VALUE=DURATION:PT1H
X-Robots-Tag:noindex
X-PUBLISHED-TTL:PT1H
BEGIN:VTIMEZONE
TZID:America/Detroit
BEGIN:DAYLIGHT
TZOFFSETFROM:-0500
TZOFFSETTO:-0400
TZNAME:EDT
DTSTART:20240310T070000
END:DAYLIGHT
BEGIN:STANDARD
TZOFFSETFROM:-0400
TZOFFSETTO:-0500
TZNAME:EST
DTSTART:20241103T060000
END:STANDARD
BEGIN:DAYLIGHT
TZOFFSETFROM:-0500
TZOFFSETTO:-0400
TZNAME:EDT
DTSTART:20250309T070000
END:DAYLIGHT
BEGIN:STANDARD
TZOFFSETFROM:-0400
TZOFFSETTO:-0500
TZNAME:EST
DTSTART:20251102T060000
END:STANDARD
BEGIN:DAYLIGHT
TZOFFSETFROM:-0500
TZOFFSETTO:-0400
TZNAME:EDT
DTSTART:20260308T070000
END:DAYLIGHT
BEGIN:STANDARD
TZOFFSETFROM:-0400
TZOFFSETTO:-0500
TZNAME:EST
DTSTART:20261101T060000
END:STANDARD
END:VTIMEZONE
BEGIN:VEVENT
DTSTART;TZID=America/Detroit:20250901T081500
DTEND;TZID=America/Detroit:20250901T093000
DTSTAMP:20260423T062400
CREATED:20250225T161523Z
LAST-MODIFIED:20250225T161523Z
UID:10000128-1756714500-1756719000@kippdetroit.org
SUMMARY:Experience Harambee & Tour KDIA!
DESCRIPTION:Start your morning with the energy and unity of Harambee at 8:15 AM (please be prompt!)—a cherished KIPP Detroit Imani Academy tradition that brings our school community together in joy and celebration! \nAfter Harambee\, join our Superintendent\, Candace\, for an exclusive tour of KIPP Detroit Imani Academy. See our classrooms in action\, meet our amazing team\, and discover why KDIA is the perfect place for your family!\nWe’re now enrolling K-3 for the 2025-2026 school year! www.KIPPDetroit.org\n Time: Harambee begins at 8:15 AM; tours follow immediately. It is crucial that you arrive by 8:15 AM to ensure you can participate in Harambee and the school tour. Location: KIPP Detroit Imani Academy\n\nWe can’t wait to welcome you to our community!
URL:https://kippdetroit.org/event/experience-harambee-tour-kdia/2025-09-01/
LOCATION:KIPP Detroit Imani Academy\, 19321 West Chicago Street\, Detroit\, MI\, 48228-1739\, United States
END:VEVENT
END:VCALENDAR