BEGIN:VCALENDAR
VERSION:2.0
PRODID:-//KIPP Detroit Public Schools - ECPv6.15.20//NONSGML v1.0//EN
CALSCALE:GREGORIAN
METHOD:PUBLISH
X-ORIGINAL-URL:https://kippdetroit.org
X-WR-CALDESC:Events for KIPP Detroit Public Schools
REFRESH-INTERVAL;VALUE=DURATION:PT1H
X-Robots-Tag:noindex
X-PUBLISHED-TTL:PT1H
BEGIN:VTIMEZONE
TZID:America/Detroit
BEGIN:DAYLIGHT
TZOFFSETFROM:-0500
TZOFFSETTO:-0400
TZNAME:EDT
DTSTART:20220313T070000
END:DAYLIGHT
BEGIN:STANDARD
TZOFFSETFROM:-0400
TZOFFSETTO:-0500
TZNAME:EST
DTSTART:20221106T060000
END:STANDARD
BEGIN:DAYLIGHT
TZOFFSETFROM:-0500
TZOFFSETTO:-0400
TZNAME:EDT
DTSTART:20230312T070000
END:DAYLIGHT
BEGIN:STANDARD
TZOFFSETFROM:-0400
TZOFFSETTO:-0500
TZNAME:EST
DTSTART:20231105T060000
END:STANDARD
BEGIN:DAYLIGHT
TZOFFSETFROM:-0500
TZOFFSETTO:-0400
TZNAME:EDT
DTSTART:20240310T070000
END:DAYLIGHT
BEGIN:STANDARD
TZOFFSETFROM:-0400
TZOFFSETTO:-0500
TZNAME:EST
DTSTART:20241103T060000
END:STANDARD
END:VTIMEZONE
BEGIN:VEVENT
DTSTART;TZID=America/Detroit:20230826T130000
DTEND;TZID=America/Detroit:20230826T143000
DTSTAMP:20260420T091534
CREATED:20230803T182411Z
LAST-MODIFIED:20230803T182411Z
UID:10000111-1693054800-1693060200@kippdetroit.org
SUMMARY:New Student Orientation
DESCRIPTION:Learn about what to expect during the school year and connect with teachers and leaders before the first day of school. \nIf your child is not yet enrolled for the 2023-24 school year\, we encourage you to join us between 11:00 AM-12:00 PM so we can enroll you prior to the orientation. \n**Attendance is required for all new KDIA families**
URL:https://kippdetroit.org/event/new-student-orientation/
LOCATION:KIPP Detroit Imani Academy\, 19321 West Chicago Street\, Detroit\, MI\, 48228-1739\, United States
END:VEVENT
BEGIN:VEVENT
DTSTART;TZID=America/Detroit:20230826T150000
DTEND;TZID=America/Detroit:20230826T170000
DTSTAMP:20260420T091534
CREATED:20230803T182733Z
LAST-MODIFIED:20230803T182733Z
UID:10000112-1693062000-1693069200@kippdetroit.org
SUMMARY:Back-to-School Family Picnic
DESCRIPTION:Join us for an afternoon of community\, food and fun!
URL:https://kippdetroit.org/event/back-to-school-family-picnic/
LOCATION:Rouge Park\, 21860 Joy Rd\, Detroit\, MI\, 48228\, United States
END:VEVENT
END:VCALENDAR