BEGIN:VCALENDAR
VERSION:2.0
PRODID:-//KIPP Detroit Public Schools - ECPv6.15.20//NONSGML v1.0//EN
CALSCALE:GREGORIAN
METHOD:PUBLISH
X-WR-CALNAME:KIPP Detroit Public Schools
X-ORIGINAL-URL:https://kippdetroit.org
X-WR-CALDESC:Events for KIPP Detroit Public Schools
REFRESH-INTERVAL;VALUE=DURATION:PT1H
X-Robots-Tag:noindex
X-PUBLISHED-TTL:PT1H
BEGIN:VTIMEZONE
TZID:America/Detroit
BEGIN:DAYLIGHT
TZOFFSETFROM:-0500
TZOFFSETTO:-0400
TZNAME:EDT
DTSTART:20210314T070000
END:DAYLIGHT
BEGIN:STANDARD
TZOFFSETFROM:-0400
TZOFFSETTO:-0500
TZNAME:EST
DTSTART:20211107T060000
END:STANDARD
BEGIN:DAYLIGHT
TZOFFSETFROM:-0500
TZOFFSETTO:-0400
TZNAME:EDT
DTSTART:20220313T070000
END:DAYLIGHT
BEGIN:STANDARD
TZOFFSETFROM:-0400
TZOFFSETTO:-0500
TZNAME:EST
DTSTART:20221106T060000
END:STANDARD
BEGIN:DAYLIGHT
TZOFFSETFROM:-0500
TZOFFSETTO:-0400
TZNAME:EDT
DTSTART:20230312T070000
END:DAYLIGHT
BEGIN:STANDARD
TZOFFSETFROM:-0400
TZOFFSETTO:-0500
TZNAME:EST
DTSTART:20231105T060000
END:STANDARD
BEGIN:DAYLIGHT
TZOFFSETFROM:-0500
TZOFFSETTO:-0400
TZNAME:EDT
DTSTART:20240310T070000
END:DAYLIGHT
BEGIN:STANDARD
TZOFFSETFROM:-0400
TZOFFSETTO:-0500
TZNAME:EST
DTSTART:20241103T060000
END:STANDARD
END:VTIMEZONE
BEGIN:VEVENT
DTSTART;VALUE=DATE:20230630
DTEND;VALUE=DATE:20230702
DTSTAMP:20260420T052855
CREATED:20220214T134704Z
LAST-MODIFIED:20220304T185146Z
UID:10000061-1688086800-1688173199@kippdetroit.org
SUMMARY:Teacher PD
DESCRIPTION:
URL:https://kippdetroit.org/event/teacher-pd/2023-06-30/
LOCATION:Michigan
CATEGORIES:Professional Development
END:VEVENT
BEGIN:VEVENT
DTSTART;VALUE=DATE:20230629
DTEND;VALUE=DATE:20230701
DTSTAMP:20260420T052855
CREATED:20220214T134704Z
LAST-MODIFIED:20220304T185146Z
UID:10000060-1688000400-1688086799@kippdetroit.org
SUMMARY:Teacher PD
DESCRIPTION:
URL:https://kippdetroit.org/event/teacher-pd/2023-06-29/
LOCATION:Michigan
CATEGORIES:Professional Development
END:VEVENT
BEGIN:VEVENT
DTSTART;VALUE=DATE:20230628
DTEND;VALUE=DATE:20230630
DTSTAMP:20260420T052855
CREATED:20220214T134704Z
LAST-MODIFIED:20220304T185146Z
UID:10000059-1687914000-1688000399@kippdetroit.org
SUMMARY:Teacher PD
DESCRIPTION:
URL:https://kippdetroit.org/event/teacher-pd/2023-06-28/
LOCATION:Michigan
CATEGORIES:Professional Development
END:VEVENT
BEGIN:VEVENT
DTSTART;VALUE=DATE:20230627
DTEND;VALUE=DATE:20230629
DTSTAMP:20260420T052855
CREATED:20220214T140832Z
LAST-MODIFIED:20220214T141016Z
UID:10000063-1687827600-1687913999@kippdetroit.org
SUMMARY:Last Day of School
DESCRIPTION:
URL:https://kippdetroit.org/event/last-day-of-school/
LOCATION:Michigan
CATEGORIES:General
END:VEVENT
BEGIN:VEVENT
DTSTART;VALUE=DATE:20230619
DTEND;VALUE=DATE:20230620
DTSTAMP:20260420T052855
CREATED:20220214T141541Z
LAST-MODIFIED:20220214T141541Z
UID:10000076-1687136400-1687136400@kippdetroit.org
SUMMARY:Juneteenth
DESCRIPTION:
URL:https://kippdetroit.org/event/juneteenth/
LOCATION:Michigan
CATEGORIES:Holidays
END:VEVENT
BEGIN:VEVENT
DTSTART;VALUE=DATE:20230529
DTEND;VALUE=DATE:20230530
DTSTAMP:20260420T052855
CREATED:20220214T141519Z
LAST-MODIFIED:20220214T141519Z
UID:10000075-1685322000-1685322000@kippdetroit.org
SUMMARY:Memorial Day
DESCRIPTION:
URL:https://kippdetroit.org/event/memorial-day/
LOCATION:Michigan
CATEGORIES:Holidays
END:VEVENT
BEGIN:VEVENT
DTSTART;VALUE=DATE:20230421
DTEND;VALUE=DATE:20230423
DTSTAMP:20260420T052855
CREATED:20220214T141002Z
LAST-MODIFIED:20220214T141002Z
UID:10000066-1682038800-1682125199@kippdetroit.org
SUMMARY:Parent Teacher Conferences
DESCRIPTION:
URL:https://kippdetroit.org/event/parent-teacher-conferences/2023-04-21/
LOCATION:Michigan
CATEGORIES:Parent Teacher Conferences
END:VEVENT
BEGIN:VEVENT
DTSTART;VALUE=DATE:20230327
DTEND;VALUE=DATE:20230402
DTSTAMP:20260420T052855
CREATED:20220214T141449Z
LAST-MODIFIED:20220304T184135Z
UID:10000074-1679878800-1680310799@kippdetroit.org
SUMMARY:Spring Break Holiday
DESCRIPTION:
URL:https://kippdetroit.org/event/spring-break-holiday/
LOCATION:Michigan
CATEGORIES:Holidays
END:VEVENT
BEGIN:VEVENT
DTSTART;VALUE=DATE:20230220
DTEND;VALUE=DATE:20230222
DTSTAMP:20260420T052855
CREATED:20220214T141423Z
LAST-MODIFIED:20230221T125608Z
UID:10000073-1676854800-1676941199@kippdetroit.org
SUMMARY:President's Day
DESCRIPTION:
URL:https://kippdetroit.org/event/mid-winter-break/
LOCATION:Michigan
CATEGORIES:Holidays
END:VEVENT
BEGIN:VEVENT
DTSTART;VALUE=DATE:20230203
DTEND;VALUE=DATE:20230205
DTSTAMP:20260420T052855
CREATED:20220214T141002Z
LAST-MODIFIED:20220214T141002Z
UID:10000065-1675386000-1675472399@kippdetroit.org
SUMMARY:Parent Teacher Conferences
DESCRIPTION:
URL:https://kippdetroit.org/event/parent-teacher-conferences/2023-02-03/
LOCATION:Michigan
CATEGORIES:Parent Teacher Conferences
END:VEVENT
BEGIN:VEVENT
DTSTART;VALUE=DATE:20230116
DTEND;VALUE=DATE:20230117
DTSTAMP:20260420T052855
CREATED:20220214T141327Z
LAST-MODIFIED:20220214T141327Z
UID:10000072-1673830800-1673830800@kippdetroit.org
SUMMARY:Dr. Martin Luther King\, Jr. Day
DESCRIPTION:
URL:https://kippdetroit.org/event/dr-martin-luther-king-jr-day/
LOCATION:Michigan
CATEGORIES:Holidays
END:VEVENT
BEGIN:VEVENT
DTSTART;VALUE=DATE:20230109
DTEND;VALUE=DATE:20230111
DTSTAMP:20260420T052855
CREATED:20220214T134704Z
LAST-MODIFIED:20220304T185146Z
UID:10000058-1673226000-1673312399@kippdetroit.org
SUMMARY:Teacher PD
DESCRIPTION:
URL:https://kippdetroit.org/event/teacher-pd/2023-01-09/
LOCATION:Michigan
CATEGORIES:Professional Development
END:VEVENT
BEGIN:VEVENT
DTSTART;VALUE=DATE:20230102
DTEND;VALUE=DATE:20230108
DTSTAMP:20260420T052855
CREATED:20220214T141232Z
LAST-MODIFIED:20220304T185503Z
UID:10000071-1672621200-1673053199@kippdetroit.org
SUMMARY:Winter Holiday
DESCRIPTION:
URL:https://kippdetroit.org/event/winter-holiday/2023-01-02/
LOCATION:Michigan
CATEGORIES:Holidays
END:VEVENT
BEGIN:VEVENT
DTSTART;VALUE=DATE:20221226
DTEND;VALUE=DATE:20230101
DTSTAMP:20260420T052855
CREATED:20220214T141232Z
LAST-MODIFIED:20220304T185503Z
UID:10000070-1672016400-1672448399@kippdetroit.org
SUMMARY:Winter Holiday
DESCRIPTION:
URL:https://kippdetroit.org/event/winter-holiday/2022-12-26/
LOCATION:Michigan
CATEGORIES:Holidays
END:VEVENT
BEGIN:VEVENT
DTSTART;VALUE=DATE:20221123
DTEND;VALUE=DATE:20221127
DTSTAMP:20260420T052855
CREATED:20220214T141204Z
LAST-MODIFIED:20220214T141204Z
UID:10000069-1669165200-1669424399@kippdetroit.org
SUMMARY:Thanksgiving Holiday
DESCRIPTION:
URL:https://kippdetroit.org/event/thanksgiving-holiday/
LOCATION:Michigan
CATEGORIES:Holidays
END:VEVENT
BEGIN:VEVENT
DTSTART;VALUE=DATE:20221111
DTEND;VALUE=DATE:20221113
DTSTAMP:20260420T052855
CREATED:20220214T141002Z
LAST-MODIFIED:20220214T141002Z
UID:10000064-1668128400-1668214799@kippdetroit.org
SUMMARY:Parent Teacher Conferences
DESCRIPTION:
URL:https://kippdetroit.org/event/parent-teacher-conferences/2022-11-11/
LOCATION:Michigan
CATEGORIES:Parent Teacher Conferences
END:VEVENT
BEGIN:VEVENT
DTSTART;VALUE=DATE:20221108
DTEND;VALUE=DATE:20221110
DTSTAMP:20260420T052855
CREATED:20220214T134704Z
LAST-MODIFIED:20220304T185146Z
UID:10000057-1667869200-1667955599@kippdetroit.org
SUMMARY:Teacher PD
DESCRIPTION:
URL:https://kippdetroit.org/event/teacher-pd/2022-11-08/
LOCATION:Michigan
CATEGORIES:Professional Development
END:VEVENT
BEGIN:VEVENT
DTSTART;VALUE=DATE:20221010
DTEND;VALUE=DATE:20221011
DTSTAMP:20260420T052855
CREATED:20220214T141141Z
LAST-MODIFIED:20220214T141141Z
UID:10000068-1665363600-1665363600@kippdetroit.org
SUMMARY:Indigenous Peoples' Day
DESCRIPTION:
URL:https://kippdetroit.org/event/indigenous-peoples-day/
LOCATION:Michigan
CATEGORIES:Holidays
END:VEVENT
BEGIN:VEVENT
DTSTART;VALUE=DATE:20220905
DTEND;VALUE=DATE:20220906
DTSTAMP:20260420T052855
CREATED:20220214T141104Z
LAST-MODIFIED:20220214T141104Z
UID:10000067-1662339600-1662339600@kippdetroit.org
SUMMARY:Labor Day
DESCRIPTION:
URL:https://kippdetroit.org/event/labor-day/
LOCATION:Michigan
CATEGORIES:Holidays
END:VEVENT
BEGIN:VEVENT
DTSTART;VALUE=DATE:20220829
DTEND;VALUE=DATE:20220831
DTSTAMP:20260420T052855
CREATED:20220214T140757Z
LAST-MODIFIED:20220214T141028Z
UID:10000062-1661734800-1661821199@kippdetroit.org
SUMMARY:First Day of School
DESCRIPTION:
URL:https://kippdetroit.org/event/first-day-of-school/
LOCATION:Michigan
CATEGORIES:General
END:VEVENT
BEGIN:VEVENT
DTSTART;VALUE=DATE:20220826
DTEND;VALUE=DATE:20220828
DTSTAMP:20260420T052855
CREATED:20220214T134704Z
LAST-MODIFIED:20220304T185146Z
UID:10000056-1661475600-1661561999@kippdetroit.org
SUMMARY:Teacher PD
DESCRIPTION:
URL:https://kippdetroit.org/event/teacher-pd/2022-08-26/
LOCATION:Michigan
CATEGORIES:Professional Development
END:VEVENT
BEGIN:VEVENT
DTSTART;VALUE=DATE:20220825
DTEND;VALUE=DATE:20220827
DTSTAMP:20260420T052855
CREATED:20220214T134704Z
LAST-MODIFIED:20220304T185146Z
UID:10000055-1661389200-1661475599@kippdetroit.org
SUMMARY:Teacher PD
DESCRIPTION:
URL:https://kippdetroit.org/event/teacher-pd/2022-08-25/
LOCATION:Michigan
CATEGORIES:Professional Development
END:VEVENT
BEGIN:VEVENT
DTSTART;VALUE=DATE:20220824
DTEND;VALUE=DATE:20220826
DTSTAMP:20260420T052855
CREATED:20220214T134704Z
LAST-MODIFIED:20220304T185146Z
UID:10000054-1661302800-1661389199@kippdetroit.org
SUMMARY:Teacher PD
DESCRIPTION:
URL:https://kippdetroit.org/event/teacher-pd/2022-08-24/
LOCATION:Michigan
CATEGORIES:Professional Development
END:VEVENT
BEGIN:VEVENT
DTSTART;VALUE=DATE:20220823
DTEND;VALUE=DATE:20220825
DTSTAMP:20260420T052855
CREATED:20220214T134704Z
LAST-MODIFIED:20220304T185146Z
UID:10000053-1661216400-1661302799@kippdetroit.org
SUMMARY:Teacher PD
DESCRIPTION:
URL:https://kippdetroit.org/event/teacher-pd/2022-08-23/
LOCATION:Michigan
CATEGORIES:Professional Development
END:VEVENT
BEGIN:VEVENT
DTSTART;VALUE=DATE:20220822
DTEND;VALUE=DATE:20220824
DTSTAMP:20260420T052855
CREATED:20220214T134704Z
LAST-MODIFIED:20220304T185146Z
UID:10000052-1661130000-1661216399@kippdetroit.org
SUMMARY:Teacher PD
DESCRIPTION:
URL:https://kippdetroit.org/event/teacher-pd/2022-08-22/
LOCATION:Michigan
CATEGORIES:Professional Development
END:VEVENT
BEGIN:VEVENT
DTSTART;VALUE=DATE:20220819
DTEND;VALUE=DATE:20220821
DTSTAMP:20260420T052855
CREATED:20220214T134704Z
LAST-MODIFIED:20220304T185146Z
UID:10000051-1660870800-1660957199@kippdetroit.org
SUMMARY:Teacher PD
DESCRIPTION:
URL:https://kippdetroit.org/event/teacher-pd/2022-08-19/
LOCATION:Michigan
CATEGORIES:Professional Development
END:VEVENT
BEGIN:VEVENT
DTSTART;VALUE=DATE:20220818
DTEND;VALUE=DATE:20220820
DTSTAMP:20260420T052855
CREATED:20220214T134704Z
LAST-MODIFIED:20220304T185146Z
UID:10000050-1660784400-1660870799@kippdetroit.org
SUMMARY:Teacher PD
DESCRIPTION:
URL:https://kippdetroit.org/event/teacher-pd/2022-08-18/
LOCATION:Michigan
CATEGORIES:Professional Development
END:VEVENT
BEGIN:VEVENT
DTSTART;VALUE=DATE:20220817
DTEND;VALUE=DATE:20220819
DTSTAMP:20260420T052855
CREATED:20220214T134704Z
LAST-MODIFIED:20220304T185146Z
UID:10000049-1660698000-1660784399@kippdetroit.org
SUMMARY:Teacher PD
DESCRIPTION:
URL:https://kippdetroit.org/event/teacher-pd/2022-08-17/
LOCATION:Michigan
CATEGORIES:Professional Development
END:VEVENT
BEGIN:VEVENT
DTSTART;VALUE=DATE:20220816
DTEND;VALUE=DATE:20220818
DTSTAMP:20260420T052855
CREATED:20220214T134704Z
LAST-MODIFIED:20220304T185146Z
UID:10000048-1660611600-1660697999@kippdetroit.org
SUMMARY:Teacher PD
DESCRIPTION:
URL:https://kippdetroit.org/event/teacher-pd/2022-08-16/
LOCATION:Michigan
CATEGORIES:Professional Development
END:VEVENT
BEGIN:VEVENT
DTSTART;VALUE=DATE:20220815
DTEND;VALUE=DATE:20220817
DTSTAMP:20260420T052855
CREATED:20220214T134704Z
LAST-MODIFIED:20220304T185146Z
UID:10000047-1660525200-1660611599@kippdetroit.org
SUMMARY:Teacher PD
DESCRIPTION:
URL:https://kippdetroit.org/event/teacher-pd/2022-08-15/
LOCATION:Michigan
CATEGORIES:Professional Development
END:VEVENT
END:VCALENDAR